BEGIN:VCALENDAR
VERSION:2.0
PRODID:-//wp-events-plugin.com//7.2.3.1//EN
BEGIN:VEVENT
UID:7@dinhata.in
DTSTART:20260312T033000Z
DTEND:20260314T123000Z
DTSTAMP:20250725T104312Z
URL:https://dinhata.in/events/2nd-global-summit-on-neuroscience-neurology-
 and-brain-disorders/
SUMMARY:2nd Global Summit on Neuroscience\, Neurology and Brain Disorders
DESCRIPTION:
LOCATION:london\, London\, UK  \, London\, United Kingdom
X-APPLE-STRUCTURED-LOCATION;VALUE=URI;X-ADDRESS=London\, UK  \, London\, Un
 ited Kingdom;X-APPLE-RADIUS=100;X-TITLE=london:geo:0,0
END:VEVENT
END:VCALENDAR